BEGIN:VCALENDAR
VERSION:2.0
PRODID:-//VNB - ECPv6.15.20//NONSGML v1.0//EN
CALSCALE:GREGORIAN
METHOD:PUBLISH
X-WR-CALNAME:VNB
X-ORIGINAL-URL:https://vnb.lt
X-WR-CALDESC:VNB renginiai
REFRESH-INTERVAL;VALUE=DURATION:PT1H
X-Robots-Tag:noindex
X-PUBLISHED-TTL:PT1H
BEGIN:VTIMEZONE
TZID:Europe/Vilnius
BEGIN:DAYLIGHT
TZOFFSETFROM:+0200
TZOFFSETTO:+0300
TZNAME:EEST
DTSTART:20250330T010000
END:DAYLIGHT
BEGIN:STANDARD
TZOFFSETFROM:+0300
TZOFFSETTO:+0200
TZNAME:EET
DTSTART:20251026T010000
END:STANDARD
BEGIN:DAYLIGHT
TZOFFSETFROM:+0200
TZOFFSETTO:+0300
TZNAME:EEST
DTSTART:20260329T010000
END:DAYLIGHT
BEGIN:STANDARD
TZOFFSETFROM:+0300
TZOFFSETTO:+0200
TZNAME:EET
DTSTART:20261025T010000
END:STANDARD
BEGIN:DAYLIGHT
TZOFFSETFROM:+0200
TZOFFSETTO:+0300
TZNAME:EEST
DTSTART:20270328T010000
END:DAYLIGHT
BEGIN:STANDARD
TZOFFSETFROM:+0300
TZOFFSETTO:+0200
TZNAME:EET
DTSTART:20271031T010000
END:STANDARD
END:VTIMEZONE
BEGIN:VEVENT
DTSTART;TZID=Europe/Vilnius:20260422T180000
DTEND;TZID=Europe/Vilnius:20260422T190000
DTSTAMP:20260420T042831
CREATED:20260415T083513Z
LAST-MODIFIED:20260415T083513Z
UID:10001339-1776880800-1776884400@vnb.lt
SUMMARY:Du Bitai 200-oji laida: tech istorijos + protmūšis
DESCRIPTION:00! Jau tiek epizodų (ir tiek savaičių) Du Bitai pasakoja apie svarbiausias technologijų naujienas.\nŠia proga Lukas ir Jonas kviečia bičiulius bei klausytojus atšvęsti kartu\, ir tai padaryti net ne online\, metavisatoje ar atstovaujant agentams\, o smaigia senamadiškai – gyvai.\nPirmą kartą kviečiame sudalyvauti laidos įrašinėjime. Vietoje įprasto savaitės aktualijų aptarimo dalinsimės mums patiems svarbiomis ir mums didelę įtaką padariusiomis technologijų istorijomis. Iš kart po to – draugiškas protmūšis (tema – oh kaip netikėta!– technologijos). Po visko kviesime dar pabūti\, kartu pasidžiaugti ir pakelti taurę kitą į visų mūsų sveiką domėjimąsi\, kuo gi gyvensime rytoj.\nPlanas:\n18:00 palengva renkamės Estrãdoje (priimame dovanas ir komplimentus)\n19:00 pradedame laidos įrašą (prisėskite\, paklausykite)\n20:15 technologijų protmūšis (registruotis iš anksto nereikia)\n21:00 pokalbiai\, taurių kilnojimas\, muzika iš Youtube (paleidžiam vadžias ir smagiai pasibūnam).\nDu Bitai – Luko Keraičio ir Jono Lekevičiaus tinklalaidė apie technologijų naujienas. Daugiau: dubitai.com.
URL:https://vnb.lt/renginys/du-bitai-200-oji-laida-tech-istorijos-protmusis/
LOCATION:Estradà\, Vilniaus g. 22\, Vilnius\, Lietuva
CATEGORIES:Muzika
ATTACH;FMTTYPE=image/jpeg:https://vnb.lt/wp-content/uploads/2026/04/669719002_26999917172926609_5864916890069555168_n.jpg
ORGANIZER;CN="estrada":MAILTO:hello@estradavilnius.lt
GEO:54.6842178;25.279570662233525
X-APPLE-STRUCTURED-LOCATION;VALUE=URI;X-ADDRESS=Estradà Vilniaus g. 22 Vilnius Lietuva;X-APPLE-RADIUS=500;X-TITLE=Vilniaus g. 22:geo:25.279570662233525,54.6842178
END:VEVENT
BEGIN:VEVENT
DTSTART;TZID=Europe/Vilnius:20260424T183000
DTEND;TZID=Europe/Vilnius:20260424T203000
DTSTAMP:20260420T042831
CREATED:20260418T090302Z
LAST-MODIFIED:20260418T090302Z
UID:10001341-1777055400-1777062600@vnb.lt
SUMMARY:Džiazo ritmais • JAZZ DUO • E.Sabilo - piano\, D.Valiauga - bosinė gitara
DESCRIPTION:• VERANDA – 20 metų gero skonio ir džiazo! • \nVERANDA – bohemiško Žvėryno ambasada\, kur virtuvė\, vynas\, gyvas džiazas ir atsipalaidavimas susitinka vienoje erdvėje.\nKur taurė vyno – ne aksesuaras\, o tarsi dar viena instrumento dalis. Maistas čia suburia – prie stalo\, prie seniai užmirštos istorijos. Natūralumas\, šviežumas\, kulinarinė improvizacija – visa tai patiekiame kasdien.\nJau 20 metų žaliuojančiame Žvėryne laukiame visų\, gyvenime pasiilgusių džiazo arba gyvenančių džiazo ritmu. \nJAZZ DUO  \nEdgar Sabilo – pianinas\nDomas Valiauga – bosinė gitara \nEdgar Sabilo – profesionalus džiazo pianistas\, muzikuojantis jau 19 metų. Edgar pradėjo mokytis muzikos Balio Dvariono muzikos mokykloje. Studijas tęsė Lietuvos muzikos ir teatro akademijoje\, patirties sėmėsi įvairiuose tarptautinėse stažuotėse\, tame tarpe ir Olandijoje\, Groningeno muzikos akademijoje.\nPianistas bendradarbiauja su žinomais Lietuvos džiazo muzikantais bei dalyvauja tarptautiniuose projektuose. \nDomas Valiauga – profesionalus bosinės gitaros atlikėjas\, turintis daugiau nei 15 metų sceninės ir studijinės patirties. Veikla apima platų žanrų spektrą – nuo džiazo ir improvizacinės muzikos iki pop bei didesnės sudėties projektų su gyvu orkestru. Bendradarbiauja su žinomais Lietuvos atlikėjais\, tokiais kaip Martynas Kavaliauskas\, Gabrielė Vilkickytė\, Leonardas Pilkauskas ir Mary mo\, taip pat pasirodė su Kauno bigbendu\, Lietuvos ansambliu bei projekte „Vardan Sosto“. \n► Džiazuojame be įėjimo mokesčio\, tačiau esame dėkingi už Jūsų paramą. Informaciją apie galimą palikti paramą rasite apsilankę “Verandoje”. \nRekomenduojame staliukus rezervuoti iš anksto:\n– iki 7 svečių – veranda.lt/rezervacija arba +370 5 2730107\n– nuo 8 svečių derinimas – rezervacija@veranda.lt \nVERANDA – 20 metų gero skonio ir džiazo!
URL:https://vnb.lt/renginys/dziazo-ritmais-jazz-duo-e-sabilo-piano-d-valiauga-bosine-gitara/
LOCATION:VERANDA\, Kęstučio g. 39\, Vilnius\, Lietuva
CATEGORIES:Muzika
ATTACH;FMTTYPE=image/jpeg:https://vnb.lt/wp-content/uploads/2026/04/Veranda_Jazz_04.24_h.jpg
ORGANIZER;CN="veranda":MAILTO:info@veranda.lt
GEO:54.6938620;25.2510404
X-APPLE-STRUCTURED-LOCATION;VALUE=URI;X-ADDRESS=VERANDA Kęstučio g. 39 Vilnius Lietuva;X-APPLE-RADIUS=500;X-TITLE=Kęstučio g. 39:geo:25.2510404,54.6938620
END:VEVENT
BEGIN:VEVENT
DTSTART;TZID=Europe/Vilnius:20260425T183000
DTEND;TZID=Europe/Vilnius:20260425T213000
DTSTAMP:20260420T042831
CREATED:20260418T090923Z
LAST-MODIFIED:20260418T090923Z
UID:10001344-1777141800-1777152600@vnb.lt
SUMMARY:Džiazo šeštadieniai • Piano Jazz
DESCRIPTION:• VERANDA – 20 metų gero skonio ir džiazo! • \nVERANDA – bohemiško Žvėryno ambasada\, kur virtuvė\, vynas\, gyvas džiazas ir atsipalaidavimas susitinka vienoje erdvėje.\nKur taurė vyno – ne aksesuaras\, o tarsi dar viena instrumento dalis. Maistas čia suburia – prie stalo\, prie seniai užmirštos istorijos. Natūralumas\, šviežumas\, kulinarinė improvizacija – visa tai patiekiame kasdien. \nJau 20 metų žaliuojančiame Žvėryne laukiame visų\, gyvenime pasiilgusių džiazo arba gyvenančių džiazo ritmu. \nŠeštadieniais “Verandoje” karaliauja “Piano Jazz” \n► Antradieniais 19:00-21:00 val.\n► Penktadieniais ir šeštadieniais džiazuojame 18:30-21:30 val. \n► Džiazuojame be įėjimo mokesčio\, tačiau esame dėkingi už Jūsų paramą. Informaciją apie galimą palikti paramą rasite apsilankę “Verandoje”. \nRekomenduojame staliukus rezervuoti iš anksto:\n– iki 7 svečių – veranda.lt arba +370 5 2730107\n– nuo 8 svečių derinimas – rezervacija@veranda.lt \nVERANDA – 20 metų gero skonio ir džiazo!
URL:https://vnb.lt/renginys/dziazo-sestadieniai-piano-jazz-12/
LOCATION:VERANDA\, Kęstučio g. 39\, Vilnius\, Lietuva
CATEGORIES:Muzika
ATTACH;FMTTYPE=image/jpeg:https://vnb.lt/wp-content/uploads/2026/04/Veranda_Jazz_Sestadieniai_h.jpg
ORGANIZER;CN="veranda":MAILTO:info@veranda.lt
GEO:54.6938620;25.2510404
X-APPLE-STRUCTURED-LOCATION;VALUE=URI;X-ADDRESS=VERANDA Kęstučio g. 39 Vilnius Lietuva;X-APPLE-RADIUS=500;X-TITLE=Kęstučio g. 39:geo:25.2510404,54.6938620
END:VEVENT
BEGIN:VEVENT
DTSTART;TZID=Europe/Vilnius:20260428T190000
DTEND;TZID=Europe/Vilnius:20260428T210000
DTSTAMP:20260420T042831
CREATED:20260418T090832Z
LAST-MODIFIED:20260418T090832Z
UID:10001343-1777402800-1777410000@vnb.lt
SUMMARY:Džiazo antradieniai • Piano Jazz
DESCRIPTION:• VERANDA – 20 metų gero skonio ir džiazo! • \nVERANDA – bohemiško Žvėryno ambasada\, kur virtuvė\, vynas\, gyvas džiazas ir atsipalaidavimas susitinka vienoje erdvėje.\nKur taurė vyno – ne aksesuaras\, o tarsi dar viena instrumento dalis. Maistas čia suburia – prie stalo\, prie seniai užmirštos istorijos. Natūralumas\, šviežumas\, kulinarinė improvizacija – visa tai patiekiame kasdien. \nJau 20 metų žaliuojančiame Žvėryne laukiame visų\, gyvenime pasiilgusių džiazo arba gyvenančių džiazo ritmu. \n• Džiazo antradieniai •\nDiena\, skirta mėgautis džiazu savaitės viduryje.\nDiena\, kai skamba pianino improvizacijos.\nDiena\, kai kviečiame džiazuoti jaunus atlikėjus.\nDiena\, skirta atradimams. \n• Antradieniais – 19:00-21:00 val.\n• Penktadieniais ir šeštadieniais džiazuojame – 18:30-21:30 val. \n► Džiazuojame be įėjimo mokesčio\, tačiau esame dėkingi už Jūsų paramą. Informaciją apie galimą palikti paramą rasite apsilankę “Verandoje”. \nRekomenduojame staliukus rezervuoti iš anksto:\n– iki 7 svečių – veranda.lt arba +370 5 2730107\n– nuo 8 svečių derinimas – rezervacija@veranda.lt \nVERANDA – 20 metų gero skonio ir džiazo!
URL:https://vnb.lt/renginys/dziazo-antradieniai-piano-jazz-17/
LOCATION:VERANDA\, Kęstučio g. 39\, Vilnius\, Lietuva
CATEGORIES:Muzika
ATTACH;FMTTYPE=image/jpeg:https://vnb.lt/wp-content/uploads/2026/04/Veranda_Jazz_Antradieniai_h.jpg
ORGANIZER;CN="veranda":MAILTO:info@veranda.lt
GEO:54.6938620;25.2510404
X-APPLE-STRUCTURED-LOCATION;VALUE=URI;X-ADDRESS=VERANDA Kęstučio g. 39 Vilnius Lietuva;X-APPLE-RADIUS=500;X-TITLE=Kęstučio g. 39:geo:25.2510404,54.6938620
END:VEVENT
BEGIN:VEVENT
DTSTART;TZID=Europe/Vilnius:20260430T190000
DTEND;TZID=Europe/Vilnius:20260430T210000
DTSTAMP:20260420T042831
CREATED:20260418T090734Z
LAST-MODIFIED:20260418T090734Z
UID:10001342-1777575600-1777582800@vnb.lt
SUMMARY:Tarptautinė džiazo diena • Piano Jazz
DESCRIPTION:Tarptautinę džiazo dieną – balandžio 30 dieną\nJei džiazas\, tai tik gyvas!  \nPIANO JAZZ • 19:00-21:00 val. \nVERANDA – bohemiško Žvėryno ambasada\, kur virtuvė\, vynas\, gyvas džiazas ir atsipalaidavimas susitinka vienoje erdvėje.\nKur taurė vyno – ne aksesuaras\, o tarsi dar viena instrumento dalis. Maistas čia suburia – prie stalo\, prie seniai užmirštos istorijos. Natūralumas\, šviežumas\, kulinarinė improvizacija – visa tai patiekiame kasdien. \nJau 20 metų žaliuojančiame Žvėryne laukiame visų\, gyvenime pasiilgusių džiazo arba gyvenančių džiazo ritmu. \n► Antradieniais 19:00-21:00 val.\n► Penktadieniais ir šeštadieniais džiazuojame 18:30-21:30 val. \n► Džiazuojame be įėjimo mokesčio\, tačiau esame dėkingi už Jūsų paramą. Informaciją apie galimą palikti paramą rasite apsilankę “Verandoje”. \nRekomenduojame staliukus rezervuoti iš anksto:\n– iki 7 svečių – veranda.lt arba +370 5 2730107\n– nuo 8 svečių derinimas – rezervacija@veranda.lt \nVERANDA – 20 metų gero skonio ir džiazo!
URL:https://vnb.lt/renginys/tarptautine-dziazo-diena-piano-jazz/
LOCATION:VERANDA\, Kęstučio g. 39\, Vilnius\, Lietuva
CATEGORIES:Muzika
ATTACH;FMTTYPE=image/jpeg:https://vnb.lt/wp-content/uploads/2026/04/Tarptautine_dziazo_diena_2026.jpg
ORGANIZER;CN="veranda":MAILTO:info@veranda.lt
GEO:54.6938620;25.2510404
X-APPLE-STRUCTURED-LOCATION;VALUE=URI;X-ADDRESS=VERANDA Kęstučio g. 39 Vilnius Lietuva;X-APPLE-RADIUS=500;X-TITLE=Kęstučio g. 39:geo:25.2510404,54.6938620
END:VEVENT
BEGIN:VEVENT
DTSTART;TZID=Europe/Vilnius:20260501T183000
DTEND;TZID=Europe/Vilnius:20260501T213000
DTSTAMP:20260420T042831
CREATED:20260418T091500Z
LAST-MODIFIED:20260418T091500Z
UID:10001345-1777660200-1777671000@vnb.lt
SUMMARY:Džiazo ritmais • JAZZ DUO • A.Kontautaitė - vokalas\, B.Marcinkutė - gitara
DESCRIPTION:• VERANDA – 20 metų gero skonio ir džiazo! • \nVERANDA – bohemiško Žvėryno ambasada\, kur virtuvė\, vynas\, gyvas džiazas ir atsipalaidavimas susitinka vienoje erdvėje.\nKur taurė vyno – ne aksesuaras\, o tarsi dar viena instrumento dalis. Maistas čia suburia – prie stalo\, prie seniai užmirštos istorijos. Natūralumas\, šviežumas\, kulinarinė improvizacija – visa tai patiekiame kasdien.\nJau 20 metų žaliuojančiame Žvėryne laukiame visų\, gyvenime pasiilgusių džiazo arba gyvenančių džiazo ritmu. \nJAZZ DUO \nLeiskimės į emocinę kelionę per muzikos pasaulį!\nNuo džiazo iki saulo\, nuo pop natų iki ritmenbliuzo ritmų  \nAugustė Kontautaitė – vokalas\nBeatričė Marcinkutė – gitara \nDvi talentingos atlikėjos\, Lietuvos Muzikos ir Teatro akademijos studentės\, kurių muzika stebina publiką savo energija bei nuoširdumu. Į jaukią improvizaciją supinta meilė muzikai ir talentai\, sukuria ypatingą atmosferą\, kuri šildo širdis ir įkvepia.  \nDueto pasirodymai išsiskiria ne tik techniniu meistriškumu\, bet ir savo tikrumu bei meile muzikai\,  neabejotinai palieka gilų įspūdį kiekvienam klausytojui. \n► Džiazuojame be įėjimo mokesčio\, tačiau esame dėkingi už Jūsų paramą. Informaciją apie galimą palikti paramą rasite apsilankę “Verandoje”. \nRekomenduojame staliukus rezervuoti iš anksto:\n– iki 7 svečių – veranda.lt/rezervacija arba +370 5 2730107\n– nuo 8 svečių derinimas – rezervacija@veranda.lt \nVERANDA – 20 metų gero skonio ir džiazo!
URL:https://vnb.lt/renginys/dziazo-ritmais-jazz-duo-a-kontautaite-vokalas-b-marcinkute-gitara/
LOCATION:VERANDA\, Kęstučio g. 39\, Vilnius\, Lietuva
CATEGORIES:Muzika
ATTACH;FMTTYPE=image/jpeg:https://vnb.lt/wp-content/uploads/2026/04/Veranda_Dziazo_Penktadieniai_Renginio_virselis.jpg
ORGANIZER;CN="veranda":MAILTO:info@veranda.lt
GEO:54.6938620;25.2510404
X-APPLE-STRUCTURED-LOCATION;VALUE=URI;X-ADDRESS=VERANDA Kęstučio g. 39 Vilnius Lietuva;X-APPLE-RADIUS=500;X-TITLE=Kęstučio g. 39:geo:25.2510404,54.6938620
END:VEVENT
BEGIN:VEVENT
DTSTART;TZID=Europe/Vilnius:20260502T183000
DTEND;TZID=Europe/Vilnius:20260502T213000
DTSTAMP:20260420T042831
CREATED:20260418T091849Z
LAST-MODIFIED:20260418T091849Z
UID:10001346-1777746600-1777757400@vnb.lt
SUMMARY:Džiazo šeštadieniai • Piano Jazz
DESCRIPTION:• VERANDA – 20 metų gero skonio ir džiazo! • \nVERANDA – bohemiško Žvėryno ambasada\, kur virtuvė\, vynas\, gyvas džiazas ir atsipalaidavimas susitinka vienoje erdvėje.\nKur taurė vyno – ne aksesuaras\, o tarsi dar viena instrumento dalis. Maistas čia suburia – prie stalo\, prie seniai užmirštos istorijos. Natūralumas\, šviežumas\, kulinarinė improvizacija – visa tai patiekiame kasdien. \nJau 20 metų žaliuojančiame Žvėryne laukiame visų\, gyvenime pasiilgusių džiazo arba gyvenančių džiazo ritmu. \nŠeštadieniais “Verandoje” karaliauja “Piano Jazz” \n► Antradieniais 19:00-21:00 val.\n► Penktadieniais ir šeštadieniais džiazuojame 18:30-21:30 val. \n► Džiazuojame be įėjimo mokesčio\, tačiau esame dėkingi už Jūsų paramą. Informaciją apie galimą palikti paramą rasite apsilankę “Verandoje”. \nRekomenduojame staliukus rezervuoti iš anksto:\n– iki 7 svečių – veranda.lt arba +370 5 2730107\n– nuo 8 svečių derinimas – rezervacija@veranda.lt \nVERANDA – 20 metų gero skonio ir džiazo!
URL:https://vnb.lt/renginys/dziazo-sestadieniai-piano-jazz-13/
LOCATION:VERANDA\, Kęstučio g. 39\, Vilnius\, Lietuva
CATEGORIES:Muzika
ATTACH;FMTTYPE=image/jpeg:https://vnb.lt/wp-content/uploads/2026/04/Veranda_Dziazo_Sestadieniai_Renginio_virselis.jpg
ORGANIZER;CN="veranda":MAILTO:info@veranda.lt
GEO:54.6938620;25.2510404
X-APPLE-STRUCTURED-LOCATION;VALUE=URI;X-ADDRESS=VERANDA Kęstučio g. 39 Vilnius Lietuva;X-APPLE-RADIUS=500;X-TITLE=Kęstučio g. 39:geo:25.2510404,54.6938620
END:VEVENT
END:VCALENDAR